Package: zFPKM Version: 1.31.0 Command: F:\biocbuild\bbs-3.22-bioc\R\bin\R.exe CMD check --no-multiarch --install=check:zFPKM.install-out.txt --library=F:\biocbuild\bbs-3.22-bioc\R\library --no-vignettes --timings zFPKM_1.31.0.tar.gz StartedAt: 2025-07-22 08:08:40 -0400 (Tue, 22 Jul 2025) EndedAt: 2025-07-22 08:11:37 -0400 (Tue, 22 Jul 2025) EllapsedTime: 177.1 seconds RetCode: 0 Status: OK CheckDir: zFPKM.Rcheck Warnings: 0