Package: zFPKM Version: 1.31.0 Command: /Library/Frameworks/R.framework/Resources/bin/R CMD build --keep-empty-dirs --no-resave-data zFPKM StartedAt: 2025-07-14 18:58:29 -0400 (Mon, 14 Jul 2025) EndedAt: 2025-07-14 18:59:20 -0400 (Mon, 14 Jul 2025) EllapsedTime: 51.6 seconds RetCode: 0 Status: OK PackageFile: zFPKM_1.31.0.tar.gz PackageFileSize: 204.3 KiB