Package: yarn Version: 1.35.0 Command: /home/biocbuild/R/R/bin/R CMD INSTALL yarn StartedAt: 2025-10-06 21:08:12 -0000 (Mon, 06 Oct 2025) EndedAt: 2025-10-06 21:09:16 -0000 (Mon, 06 Oct 2025) EllapsedTime: 64.3 seconds RetCode: 0 Status: OK