Package: yarn Version: 1.35.0 Command: /home/biocbuild/R/R/bin/R CMD build --keep-empty-dirs --no-resave-data yarn StartedAt: 2025-10-07 03:58:17 -0000 (Tue, 07 Oct 2025) EndedAt: 2025-10-07 03:59:55 -0000 (Tue, 07 Oct 2025) EllapsedTime: 97.9 seconds RetCode: 0 Status: OK PackageFile: yarn_1.35.0.tar.gz PackageFileSize: 2.961 MiB