Package: yarn Version: 1.35.0 Command: rm -rf yarn.buildbin-libdir && mkdir yarn.buildbin-libdir && F:\biocbuild\bbs-3.22-bioc\R\bin\R.exe CMD INSTALL --build --library=yarn.buildbin-libdir yarn_1.35.0.tar.gz StartedAt: 2025-08-15 11:36:36 -0400 (Fri, 15 Aug 2025) EndedAt: 2025-08-15 11:37:25 -0400 (Fri, 15 Aug 2025) EllapsedTime: 49.1 seconds RetCode: 0 Status: OK PackageFile: yarn_1.35.0.zip PackageFileSize: 4.119 MiB