Package: yamss Version: 1.35.0 Command: rm -rf yamss.buildbin-libdir && mkdir yamss.buildbin-libdir && /Users/biocbuild/BBS/utils/build-universal.sh yamss_1.35.0.tar.gz /Library/Frameworks/R.framework/Resources/bin/R yamss.buildbin-libdir StartedAt: 2025-10-04 02:36:45 -0400 (Sat, 04 Oct 2025) EndedAt: 2025-10-04 02:37:22 -0400 (Sat, 04 Oct 2025) EllapsedTime: 37.1 seconds RetCode: 0 Status: OK PackageFile: yamss_1.35.0.tgz PackageFileSize: 734.5 KiB