Package: yamss Version: 1.35.0 Command: /Library/Frameworks/R.framework/Resources/bin/R CMD check --install=check:yamss.install-out.txt --library=/Library/Frameworks/R.framework/Resources/library --no-vignettes --timings yamss_1.35.0.tar.gz StartedAt: 2025-10-05 22:26:33 -0400 (Sun, 05 Oct 2025) EndedAt: 2025-10-05 22:27:58 -0400 (Sun, 05 Oct 2025) EllapsedTime: 84.5 seconds RetCode: 0 Status: OK CheckDir: yamss.Rcheck Warnings: 0