Package: xmapbridge Version: 1.67.0 Command: /home/biocbuild/R/R/bin/R CMD check --install=check:xmapbridge.install-out.txt --library=/home/biocbuild/R/R/site-library --no-vignettes --timings xmapbridge_1.67.0.tar.gz StartedAt: 2025-07-08 12:13:29 -0000 (Tue, 08 Jul 2025) EndedAt: 2025-07-08 12:13:51 -0000 (Tue, 08 Jul 2025) EllapsedTime: 22.0 seconds RetCode: 0 Status: OK CheckDir: xmapbridge.Rcheck Warnings: 0