Package: xmapbridge Version: 1.67.0 Command: /home/biocbuild/R/R/bin/R CMD build --keep-empty-dirs --no-resave-data xmapbridge StartedAt: 2025-07-08 03:33:22 -0000 (Tue, 08 Jul 2025) EndedAt: 2025-07-08 03:33:51 -0000 (Tue, 08 Jul 2025) EllapsedTime: 29.1 seconds RetCode: 0 Status: OK PackageFile: xmapbridge_1.67.0.tar.gz PackageFileSize: 3.013 MiB