Package: xmapbridge Version: 1.67.0 Command: /home/biocbuild/bbs-3.22-bioc/R/bin/R CMD INSTALL xmapbridge StartedAt: 2025-10-03 15:01:42 -0400 (Fri, 03 Oct 2025) EndedAt: 2025-10-03 15:01:48 -0400 (Fri, 03 Oct 2025) EllapsedTime: 6.4 seconds RetCode: 0 Status: OK