Package: xmapbridge Version: 1.67.0 Command: /Library/Frameworks/R.framework/Resources/bin/R CMD build --keep-empty-dirs --no-resave-data xmapbridge StartedAt: 2025-07-04 17:53:24 -0400 (Fri, 04 Jul 2025) EndedAt: 2025-07-04 17:53:39 -0400 (Fri, 04 Jul 2025) EllapsedTime: 14.2 seconds RetCode: 0 Status: OK PackageFile: xmapbridge_1.67.0.tar.gz PackageFileSize: 3.02 MiB