Package: xmapbridge Version: 1.67.0 Command: rm -rf xmapbridge.buildbin-libdir && mkdir xmapbridge.buildbin-libdir && /Users/biocbuild/BBS/utils/build-universal.sh xmapbridge_1.67.0.tar.gz /Library/Frameworks/R.framework/Resources/bin/R xmapbridge.buildbin-libdir StartedAt: 2025-07-04 22:38:41 -0400 (Fri, 04 Jul 2025) EndedAt: 2025-07-04 22:38:43 -0400 (Fri, 04 Jul 2025) EllapsedTime: 2.0 seconds RetCode: 0 Status: OK PackageFile: xmapbridge_1.67.0.tgz PackageFileSize: 1.763 MiB