Package: xenLite Version: 1.3.0 Command: /Library/Frameworks/R.framework/Resources/bin/R CMD build --keep-empty-dirs --no-resave-data xenLite StartedAt: 2025-07-01 18:58:37 -0400 (Tue, 01 Jul 2025) EndedAt: 2025-07-01 18:59:37 -0400 (Tue, 01 Jul 2025) EllapsedTime: 59.4 seconds RetCode: 0 Status: OK PackageFile: xenLite_1.3.0.tar.gz PackageFileSize: 3.351 MiB