Package: xcore Version: 1.13.0 Command: /home/biocbuild/R/R/bin/R CMD INSTALL xcore StartedAt: 2025-07-14 20:32:40 -0000 (Mon, 14 Jul 2025) EndedAt: 2025-07-14 20:33:11 -0000 (Mon, 14 Jul 2025) EllapsedTime: 31.5 seconds RetCode: 0 Status: OK