Package: xcore Version: 1.13.0 Command: /Library/Frameworks/R.framework/Resources/bin/R CMD check --install=check:xcore.install-out.txt --library=/Library/Frameworks/R.framework/Resources/library --no-vignettes --timings xcore_1.13.0.tar.gz StartedAt: 2025-10-05 22:25:19 -0400 (Sun, 05 Oct 2025) EndedAt: 2025-10-05 22:28:42 -0400 (Sun, 05 Oct 2025) EllapsedTime: 203.4 seconds RetCode: 0 Status: OK CheckDir: xcore.Rcheck Warnings: 0