Package: xcms Version: 4.7.2 Command: rm -rf xcms.buildbin-libdir && mkdir xcms.buildbin-libdir && /Users/biocbuild/BBS/utils/build-universal.sh xcms_4.7.2.tar.gz /Library/Frameworks/R.framework/Resources/bin/R xcms.buildbin-libdir StartedAt: 2025-07-01 22:39:09 -0400 (Tue, 01 Jul 2025) EndedAt: 2025-07-01 22:39:46 -0400 (Tue, 01 Jul 2025) EllapsedTime: 36.8 seconds RetCode: 0 Status: OK PackageFile: xcms_4.7.2.tgz PackageFileSize: 11.83 MiB