Package: xCell2 Version: 1.1.0 Command: chmod a+r xCell2 -R && F:\biocbuild\bbs-3.22-bioc\R\bin\R.exe CMD build --keep-empty-dirs --no-resave-data xCell2 StartedAt: 2025-07-14 22:51:52 -0400 (Mon, 14 Jul 2025) EndedAt: 2025-07-14 22:53:50 -0400 (Mon, 14 Jul 2025) EllapsedTime: 117.8 seconds RetCode: 0 Status: OK PackageFile: xCell2_1.1.0.tar.gz PackageFileSize: 2.867 MiB