Package: xCell2 Version: 1.1.0 Command: /Library/Frameworks/R.framework/Resources/bin/R CMD check --install=check:xCell2.install-out.txt --library=/Library/Frameworks/R.framework/Resources/library --no-vignettes --timings xCell2_1.1.0.tar.gz StartedAt: 2025-07-02 22:01:42 -0400 (Wed, 02 Jul 2025) EndedAt: 2025-07-02 22:03:51 -0400 (Wed, 02 Jul 2025) EllapsedTime: 129.5 seconds RetCode: 0 Status: OK CheckDir: xCell2.Rcheck Warnings: 0