Package: xCell2 Version: 1.1.0 Command: /Library/Frameworks/R.framework/Resources/bin/R CMD build --keep-empty-dirs --no-resave-data xCell2 StartedAt: 2025-07-02 17:53:37 -0400 (Wed, 02 Jul 2025) EndedAt: 2025-07-02 17:54:11 -0400 (Wed, 02 Jul 2025) EllapsedTime: 34.4 seconds RetCode: 0 Status: OK PackageFile: xCell2_1.1.0.tar.gz PackageFileSize: 3.075 MiB