Package: wpm Version: 1.19.0 Command: /home/biocbuild/R/R/bin/R CMD INSTALL wpm StartedAt: 2025-07-14 20:32:13 -0000 (Mon, 14 Jul 2025) EndedAt: 2025-07-14 20:32:18 -0000 (Mon, 14 Jul 2025) EllapsedTime: 4.4 seconds RetCode: 0 Status: OK