Package: wpm Version: 1.19.0 Command: /home/biocbuild/R/R/bin/R CMD build --keep-empty-dirs --no-resave-data wpm StartedAt: 2025-07-15 03:49:40 -0000 (Tue, 15 Jul 2025) EndedAt: 2025-07-15 03:50:06 -0000 (Tue, 15 Jul 2025) EllapsedTime: 26.0 seconds RetCode: 0 Status: OK PackageFile: wpm_1.19.0.tar.gz PackageFileSize: 2.396 MiB