Package: wpm Version: 1.19.0 Command: F:\biocbuild\bbs-3.22-bioc\R\bin\R.exe CMD INSTALL wpm StartedAt: 2025-07-22 16:09:11 -0400 (Tue, 22 Jul 2025) EndedAt: 2025-07-22 16:09:32 -0400 (Tue, 22 Jul 2025) EllapsedTime: 20.6 seconds RetCode: 0 Status: OK