Package: wpm Version: 1.19.0 Command: chmod a+r wpm -R && F:\biocbuild\bbs-3.22-bioc\R\bin\R.exe CMD build --keep-empty-dirs --no-resave-data wpm StartedAt: 2025-07-22 22:52:30 -0400 (Tue, 22 Jul 2025) EndedAt: 2025-07-22 22:53:09 -0400 (Tue, 22 Jul 2025) EllapsedTime: 38.8 seconds RetCode: 0 Status: OK PackageFile: wpm_1.19.0.tar.gz PackageFileSize: 2.287 MiB