Package: wpm Version: 1.19.0 Command: rm -rf wpm.buildbin-libdir && mkdir wpm.buildbin-libdir && F:\biocbuild\bbs-3.22-bioc\R\bin\R.exe CMD INSTALL --build --library=wpm.buildbin-libdir wpm_1.19.0.tar.gz StartedAt: 2025-07-23 10:26:15 -0400 (Wed, 23 Jul 2025) EndedAt: 2025-07-23 10:26:39 -0400 (Wed, 23 Jul 2025) EllapsedTime: 23.5 seconds RetCode: 0 Status: OK PackageFile: wpm_1.19.0.zip PackageFileSize: 1.806 MiB