Package: wpm Version: 1.19.0 Command: /Library/Frameworks/R.framework/Resources/bin/R CMD INSTALL wpm StartedAt: 2025-10-03 15:19:59 -0400 (Fri, 03 Oct 2025) EndedAt: 2025-10-03 15:20:05 -0400 (Fri, 03 Oct 2025) EllapsedTime: 5.4 seconds RetCode: 0 Status: OK