Package: wpm Version: 1.19.0 Command: /Library/Frameworks/R.framework/Resources/bin/R CMD build --keep-empty-dirs --no-resave-data wpm StartedAt: 2025-10-03 19:30:45 -0400 (Fri, 03 Oct 2025) EndedAt: 2025-10-03 19:31:11 -0400 (Fri, 03 Oct 2025) EllapsedTime: 26.3 seconds RetCode: 0 Status: OK PackageFile: wpm_1.19.0.tar.gz PackageFileSize: 2.414 MiB