Package: wpm Version: 1.19.0 Command: /Library/Frameworks/R.framework/Resources/bin/R CMD build --keep-empty-dirs --no-resave-data wpm StartedAt: 2025-07-20 17:55:44 -0400 (Sun, 20 Jul 2025) EndedAt: 2025-07-20 17:55:53 -0400 (Sun, 20 Jul 2025) EllapsedTime: 9.1 seconds RetCode: 0 Status: OK PackageFile: wpm_1.19.0.tar.gz PackageFileSize: 2.428 MiB