Package: wpm Version: 1.19.0 Command: rm -rf wpm.buildbin-libdir && mkdir wpm.buildbin-libdir && /Users/biocbuild/BBS/utils/build-universal.sh wpm_1.19.0.tar.gz /Library/Frameworks/R.framework/Resources/bin/R wpm.buildbin-libdir StartedAt: 2025-07-20 22:46:18 -0400 (Sun, 20 Jul 2025) EndedAt: 2025-07-20 22:46:20 -0400 (Sun, 20 Jul 2025) EllapsedTime: 2.0 seconds RetCode: 0 Status: OK PackageFile: wpm_1.19.0.tgz PackageFileSize: 1.945 MiB