Package: weaver Version: 1.75.0 Command: /home/biocbuild/R/R/bin/R CMD INSTALL weaver StartedAt: 2025-06-26 20:15:48 -0000 (Thu, 26 Jun 2025) EndedAt: 2025-06-26 20:16:38 -0000 (Thu, 26 Jun 2025) EllapsedTime: 50.6 seconds RetCode: 0 Status: OK