Package: weaver Version: 1.75.0 Command: /Library/Frameworks/R.framework/Resources/bin/R CMD INSTALL weaver StartedAt: 2025-07-15 15:03:48 -0400 (Tue, 15 Jul 2025) EndedAt: 2025-07-15 15:04:02 -0400 (Tue, 15 Jul 2025) EllapsedTime: 14.6 seconds RetCode: 0 Status: OK