Package: wateRmelon Version: 2.15.0 Command: /Library/Frameworks/R.framework/Resources/bin/R CMD INSTALL wateRmelon StartedAt: 2025-07-04 15:31:41 -0400 (Fri, 04 Jul 2025) EndedAt: 2025-07-04 15:32:01 -0400 (Fri, 04 Jul 2025) EllapsedTime: 20.5 seconds RetCode: 0 Status: OK