Package: wateRmelon Version: 2.15.0 Command: /Library/Frameworks/R.framework/Resources/bin/R CMD check --install=check:wateRmelon.install-out.txt --library=/Library/Frameworks/R.framework/Resources/library --no-vignettes --timings wateRmelon_2.15.0.tar.gz StartedAt: 2025-07-04 21:59:20 -0400 (Fri, 04 Jul 2025) EndedAt: 2025-07-04 22:02:01 -0400 (Fri, 04 Jul 2025) EllapsedTime: 160.9 seconds RetCode: 0 Status: WARNINGS CheckDir: wateRmelon.Rcheck Warnings: 5