Package: wateRmelon Version: 2.15.0 Command: rm -rf wateRmelon.buildbin-libdir && mkdir wateRmelon.buildbin-libdir && /Users/biocbuild/BBS/utils/build-universal.sh wateRmelon_2.15.0.tar.gz /Library/Frameworks/R.framework/Resources/bin/R wateRmelon.buildbin-libdir StartedAt: 2025-07-04 22:38:27 -0400 (Fri, 04 Jul 2025) EndedAt: 2025-07-04 22:38:52 -0400 (Fri, 04 Jul 2025) EllapsedTime: 24.3 seconds RetCode: 0 Status: OK PackageFile: wateRmelon_2.15.0.tgz PackageFileSize: 3.69 MiB