Package: vulcan Version: 1.31.0 Command: F:\biocbuild\bbs-3.22-bioc\R\bin\R.exe CMD INSTALL vulcan StartedAt: 2025-08-14 17:04:12 -0400 (Thu, 14 Aug 2025) EndedAt: 2025-08-14 17:05:28 -0400 (Thu, 14 Aug 2025) EllapsedTime: 76.5 seconds RetCode: 0 Status: OK