Package: vtpnet Version: 0.49.0 Command: /home/biocbuild/R/R/bin/R CMD check --install=check:vtpnet.install-out.txt --library=/home/biocbuild/R/R/site-library --no-vignettes --timings vtpnet_0.49.0.tar.gz StartedAt: 2025-07-22 12:54:55 -0000 (Tue, 22 Jul 2025) EndedAt: 2025-07-22 13:01:47 -0000 (Tue, 22 Jul 2025) EllapsedTime: 411.7 seconds RetCode: 0 Status: OK CheckDir: vtpnet.Rcheck Warnings: 0