Package: vtpnet Version: 0.49.0 Command: /home/biocbuild/R/R/bin/R CMD build --keep-empty-dirs --no-resave-data vtpnet StartedAt: 2025-07-22 03:44:08 -0000 (Tue, 22 Jul 2025) EndedAt: 2025-07-22 03:45:54 -0000 (Tue, 22 Jul 2025) EllapsedTime: 106.1 seconds RetCode: 0 Status: OK PackageFile: vtpnet_0.49.0.tar.gz PackageFileSize: 20.22 MiB