Package: vtpnet Version: 0.49.0 Command: F:\biocbuild\bbs-3.22-bioc\R\bin\R.exe CMD INSTALL vtpnet StartedAt: 2025-07-21 16:48:59 -0400 (Mon, 21 Jul 2025) EndedAt: 2025-07-21 16:49:56 -0400 (Mon, 21 Jul 2025) EllapsedTime: 57.2 seconds RetCode: 0 Status: OK