Package: vtpnet Version: 0.49.0 Command: F:\biocbuild\bbs-3.22-bioc\R\bin\R.exe CMD check --no-multiarch --install=check:vtpnet.install-out.txt --library=F:\biocbuild\bbs-3.22-bioc\R\library --no-vignettes --timings vtpnet_0.49.0.tar.gz StartedAt: 2025-07-22 08:01:53 -0400 (Tue, 22 Jul 2025) EndedAt: 2025-07-22 08:08:29 -0400 (Tue, 22 Jul 2025) EllapsedTime: 396.6 seconds RetCode: 0 Status: OK CheckDir: vtpnet.Rcheck Warnings: 0