Package: vtpnet Version: 0.49.0 Command: chmod a+r vtpnet -R && F:\biocbuild\bbs-3.22-bioc\R\bin\R.exe CMD build --keep-empty-dirs --no-resave-data vtpnet StartedAt: 2025-07-21 22:52:46 -0400 (Mon, 21 Jul 2025) EndedAt: 2025-07-21 22:54:39 -0400 (Mon, 21 Jul 2025) EllapsedTime: 113.1 seconds RetCode: 0 Status: OK PackageFile: vtpnet_0.49.0.tar.gz PackageFileSize: 20.11 MiB