Package: vtpnet Version: 0.49.0 Command: rm -rf vtpnet.buildbin-libdir && mkdir vtpnet.buildbin-libdir && F:\biocbuild\bbs-3.22-bioc\R\bin\R.exe CMD INSTALL --build --library=vtpnet.buildbin-libdir vtpnet_0.49.0.tar.gz StartedAt: 2025-07-22 10:24:03 -0400 (Tue, 22 Jul 2025) EndedAt: 2025-07-22 10:24:52 -0400 (Tue, 22 Jul 2025) EllapsedTime: 49.0 seconds RetCode: 0 Status: OK PackageFile: vtpnet_0.49.0.zip PackageFileSize: 20.13 MiB