Package: vsn Version: 3.77.0 Command: /home/biocbuild/R/R/bin/R CMD build --keep-empty-dirs --no-resave-data vsn StartedAt: 2025-07-01 03:48:07 -0000 (Tue, 01 Jul 2025) EndedAt: 2025-07-01 03:49:08 -0000 (Tue, 01 Jul 2025) EllapsedTime: 61.0 seconds RetCode: 0 Status: OK PackageFile: vsn_3.77.0.tar.gz PackageFileSize: 1.349 MiB