Package: vsn Version: 3.77.0 Command: F:\biocbuild\bbs-3.22-bioc\R\bin\R.exe CMD INSTALL vsn StartedAt: 2025-07-01 15:32:57 -0400 (Tue, 01 Jul 2025) EndedAt: 2025-07-01 15:33:27 -0400 (Tue, 01 Jul 2025) EllapsedTime: 30.1 seconds RetCode: 0 Status: OK