Package: vsn Version: 3.77.0 Command: F:\biocbuild\bbs-3.22-bioc\R\bin\R.exe CMD check --no-multiarch --install=check:vsn.install-out.txt --library=F:\biocbuild\bbs-3.22-bioc\R\library --no-vignettes --timings vsn_3.77.0.tar.gz StartedAt: 2025-07-12 07:45:10 -0400 (Sat, 12 Jul 2025) EndedAt: 2025-07-12 07:46:36 -0400 (Sat, 12 Jul 2025) EllapsedTime: 86.7 seconds RetCode: 0 Status: OK CheckDir: vsn.Rcheck Warnings: 0