Package: vsn Version: 3.77.0 Command: chmod a+r vsn -R && F:\biocbuild\bbs-3.22-bioc\R\bin\R.exe CMD build --keep-empty-dirs --no-resave-data vsn StartedAt: 2025-07-01 22:45:45 -0400 (Tue, 01 Jul 2025) EndedAt: 2025-07-01 22:47:05 -0400 (Tue, 01 Jul 2025) EllapsedTime: 80.6 seconds RetCode: 0 Status: OK PackageFile: vsn_3.77.0.tar.gz PackageFileSize: 1.303 MiB