Package: vsn Version: 3.77.0 Command: rm -rf vsn.buildbin-libdir && mkdir vsn.buildbin-libdir && F:\biocbuild\bbs-3.22-bioc\R\bin\R.exe CMD INSTALL --build --library=vsn.buildbin-libdir vsn_3.77.0.tar.gz StartedAt: 2025-07-02 10:10:34 -0400 (Wed, 02 Jul 2025) EndedAt: 2025-07-02 10:11:00 -0400 (Wed, 02 Jul 2025) EllapsedTime: 25.5 seconds RetCode: 0 Status: OK PackageFile: vsn_3.77.0.zip PackageFileSize: 1.564 MiB