Package: vsn Version: 3.77.0 Command: /Library/Frameworks/R.framework/Resources/bin/R CMD INSTALL vsn StartedAt: 2025-07-01 15:27:01 -0400 (Tue, 01 Jul 2025) EndedAt: 2025-07-01 15:27:27 -0400 (Tue, 01 Jul 2025) EllapsedTime: 26.2 seconds RetCode: 0 Status: OK