Package: vsn Version: 3.77.0 Command: /Library/Frameworks/R.framework/Resources/bin/R CMD check --install=check:vsn.install-out.txt --library=/Library/Frameworks/R.framework/Resources/library --no-vignettes --timings vsn_3.77.0.tar.gz StartedAt: 2025-07-03 00:10:56 -0400 (Thu, 03 Jul 2025) EndedAt: 2025-07-03 00:12:08 -0400 (Thu, 03 Jul 2025) EllapsedTime: 72.0 seconds RetCode: 0 Status: OK CheckDir: vsn.Rcheck Warnings: 0