Package: vsn Version: 3.77.0 Command: /Library/Frameworks/R.framework/Resources/bin/R CMD build --keep-empty-dirs --no-resave-data vsn StartedAt: 2025-07-01 18:56:45 -0400 (Tue, 01 Jul 2025) EndedAt: 2025-07-01 18:57:46 -0400 (Tue, 01 Jul 2025) EllapsedTime: 60.5 seconds RetCode: 0 Status: OK PackageFile: vsn_3.77.0.tar.gz PackageFileSize: 2.252 MiB