Package: vsn Version: 3.77.0 Command: rm -rf vsn.buildbin-libdir && mkdir vsn.buildbin-libdir && /Users/biocbuild/BBS/utils/build-universal.sh vsn_3.77.0.tar.gz /Library/Frameworks/R.framework/Resources/bin/R vsn.buildbin-libdir StartedAt: 2025-07-02 01:26:03 -0400 (Wed, 02 Jul 2025) EndedAt: 2025-07-02 01:26:19 -0400 (Wed, 02 Jul 2025) EllapsedTime: 16.1 seconds RetCode: 0 Status: OK PackageFile: vsn_3.77.0.tgz PackageFileSize: 2.507 MiB