Package: vsn Version: 3.77.0 Command: /Library/Frameworks/R.framework/Resources/bin/R CMD INSTALL vsn StartedAt: 2025-07-16 15:06:46 -0400 (Wed, 16 Jul 2025) EndedAt: 2025-07-16 15:06:49 -0400 (Wed, 16 Jul 2025) EllapsedTime: 3.4 seconds RetCode: 0 Status: OK